BEGIN:VCALENDAR
VERSION:2.0
PRODID:-//Kaleidoscope Irish Dance and Movement - ECPv6.15.20//NONSGML v1.0//EN
CALSCALE:GREGORIAN
METHOD:PUBLISH
X-ORIGINAL-URL:https://kaleidoscopekw.ca
X-WR-CALDESC:Events for Kaleidoscope Irish Dance and Movement
REFRESH-INTERVAL;VALUE=DURATION:PT1H
X-Robots-Tag:noindex
X-PUBLISHED-TTL:PT1H
BEGIN:VTIMEZONE
TZID:America/Toronto
BEGIN:DAYLIGHT
TZOFFSETFROM:-0500
TZOFFSETTO:-0400
TZNAME:EDT
DTSTART:20240310T070000
END:DAYLIGHT
BEGIN:STANDARD
TZOFFSETFROM:-0400
TZOFFSETTO:-0500
TZNAME:EST
DTSTART:20241103T060000
END:STANDARD
BEGIN:DAYLIGHT
TZOFFSETFROM:-0500
TZOFFSETTO:-0400
TZNAME:EDT
DTSTART:20250309T070000
END:DAYLIGHT
BEGIN:STANDARD
TZOFFSETFROM:-0400
TZOFFSETTO:-0500
TZNAME:EST
DTSTART:20251102T060000
END:STANDARD
BEGIN:DAYLIGHT
TZOFFSETFROM:-0500
TZOFFSETTO:-0400
TZNAME:EDT
DTSTART:20260308T070000
END:DAYLIGHT
BEGIN:STANDARD
TZOFFSETFROM:-0400
TZOFFSETTO:-0500
TZNAME:EST
DTSTART:20261101T060000
END:STANDARD
END:VTIMEZONE
BEGIN:VEVENT
DTSTART;TZID=America/Toronto:20250604T130000
DTEND;TZID=America/Toronto:20250604T143000
DTSTAMP:20260421T074725
CREATED:20250214T145552Z
LAST-MODIFIED:20250214T150211Z
UID:2237-1749042000-1749047400@kaleidoscopekw.ca
SUMMARY:Move Your Mind: The Cognitive Benefits of Dance
DESCRIPTION:Get ready to step into a fun and engaging session where dance meets brain power! This interactive presentation for adults 55+ at the Kitchener Public Library highlights how dance\, particularly adapted Irish dance\, can boost cognitive health and mental agility. \nLearn about the science behind movement and memory while exploring easy-to-follow steps that anyone can enjoy. Adaptations will be provided for those who use mobility aids. \nNo experience necessary—just come prepared to move\, laugh\, and discover how dance can keep your mind sharp and your spirits high! \nOnly 20 spots available – you can reserve your place through the KPL website.
URL:https://kaleidoscopekw.ca/event/move-your-mind-the-cognitive-benefits-of-dance/
LOCATION:KPL Forest Heights\, 251 Fischer-Hallman Rd\, Kitchener\, Ontario\, N2M 4X8\, Canada
ATTACH;FMTTYPE=image/png:https://kaleidoscopekw.ca/wp-content/uploads/2024/11/2024-11-27-KPL.png
END:VEVENT
END:VCALENDAR