BEGIN:VCALENDAR
VERSION:2.0
PRODID:-//Kaleidoscope Irish Dance and Movement - ECPv6.15.20//NONSGML v1.0//EN
CALSCALE:GREGORIAN
METHOD:PUBLISH
X-WR-CALNAME:Kaleidoscope Irish Dance and Movement
X-ORIGINAL-URL:https://kaleidoscopekw.ca
X-WR-CALDESC:Events for Kaleidoscope Irish Dance and Movement
REFRESH-INTERVAL;VALUE=DURATION:PT1H
X-Robots-Tag:noindex
X-PUBLISHED-TTL:PT1H
BEGIN:VTIMEZONE
TZID:America/Toronto
BEGIN:DAYLIGHT
TZOFFSETFROM:-0500
TZOFFSETTO:-0400
TZNAME:EDT
DTSTART:20230312T070000
END:DAYLIGHT
BEGIN:STANDARD
TZOFFSETFROM:-0400
TZOFFSETTO:-0500
TZNAME:EST
DTSTART:20231105T060000
END:STANDARD
BEGIN:DAYLIGHT
TZOFFSETFROM:-0500
TZOFFSETTO:-0400
TZNAME:EDT
DTSTART:20240310T070000
END:DAYLIGHT
BEGIN:STANDARD
TZOFFSETFROM:-0400
TZOFFSETTO:-0500
TZNAME:EST
DTSTART:20241103T060000
END:STANDARD
BEGIN:DAYLIGHT
TZOFFSETFROM:-0500
TZOFFSETTO:-0400
TZNAME:EDT
DTSTART:20250309T070000
END:DAYLIGHT
BEGIN:STANDARD
TZOFFSETFROM:-0400
TZOFFSETTO:-0500
TZNAME:EST
DTSTART:20251102T060000
END:STANDARD
END:VTIMEZONE
BEGIN:VEVENT
DTSTART;TZID=America/Toronto:20240921T193000
DTEND;TZID=America/Toronto:20240921T230000
DTSTAMP:20260421T211604
CREATED:20240717T145623Z
LAST-MODIFIED:20240717T151432Z
UID:2153-1726947000-1726959600@kaleidoscopekw.ca
SUMMARY:IRL Ceili
DESCRIPTION:Saturday\, September 21\, 2024\n7:30 p.m –  11:00 p.m. \nKaleidoscope Studio dancers will be performing as part of the IRL Festival September Céilí at the Victoria Park Pavilion. We will be showcasing numerous old style Irish dance step dancing. \nTickets for the event are available on the IRL website.
URL:https://kaleidoscopekw.ca/event/irl-ceili-september-2024/
LOCATION:ON
ATTACH;FMTTYPE=image/jpeg:https://kaleidoscopekw.ca/wp-content/uploads/2024/07/IRL-Ceili-May-2024.jpg
END:VEVENT
END:VCALENDAR