BEGIN:VCALENDAR
VERSION:2.0
PRODID:-//Kaleidoscope Irish Dance and Movement - ECPv6.15.20//NONSGML v1.0//EN
CALSCALE:GREGORIAN
METHOD:PUBLISH
X-WR-CALNAME:Kaleidoscope Irish Dance and Movement
X-ORIGINAL-URL:https://kaleidoscopekw.ca
X-WR-CALDESC:Events for Kaleidoscope Irish Dance and Movement
REFRESH-INTERVAL;VALUE=DURATION:PT1H
X-Robots-Tag:noindex
X-PUBLISHED-TTL:PT1H
BEGIN:VTIMEZONE
TZID:America/Toronto
BEGIN:DAYLIGHT
TZOFFSETFROM:-0500
TZOFFSETTO:-0400
TZNAME:EDT
DTSTART:20230312T070000
END:DAYLIGHT
BEGIN:STANDARD
TZOFFSETFROM:-0400
TZOFFSETTO:-0500
TZNAME:EST
DTSTART:20231105T060000
END:STANDARD
BEGIN:DAYLIGHT
TZOFFSETFROM:-0500
TZOFFSETTO:-0400
TZNAME:EDT
DTSTART:20240310T070000
END:DAYLIGHT
BEGIN:STANDARD
TZOFFSETFROM:-0400
TZOFFSETTO:-0500
TZNAME:EST
DTSTART:20241103T060000
END:STANDARD
BEGIN:DAYLIGHT
TZOFFSETFROM:-0500
TZOFFSETTO:-0400
TZNAME:EDT
DTSTART:20250309T070000
END:DAYLIGHT
BEGIN:STANDARD
TZOFFSETFROM:-0400
TZOFFSETTO:-0500
TZNAME:EST
DTSTART:20251102T060000
END:STANDARD
END:VTIMEZONE
BEGIN:VEVENT
DTSTART;TZID=America/Toronto:20240720T130000
DTEND;TZID=America/Toronto:20240720T140000
DTSTAMP:20260422T004019
CREATED:20240717T151239Z
LAST-MODIFIED:20240717T151442Z
UID:2168-1721480400-1721484000@kaleidoscopekw.ca
SUMMARY:Hillside Festival - Family/Adapted Céili
DESCRIPTION:The Family/Adapted Céilí is an Irish social dance event created for families to enjoy dancing together. \nDesigned to accommodate all ages and abilities\, this event promises fun and inclusivity for everyone. Step into the rhythm of traditional Irish music at a relaxed pace\, and dance with ease using modified Irish dance steps. \nLed by our expert caller\, Marjorie Hopkins\, who specializes in adaptive and inclusive Irish dance\, this is a wonderful opportunity to share the joy of dancing with your loved ones. \nTickets available through Hillside’s Website!
URL:https://kaleidoscopekw.ca/event/hillside-festival-family-adapted-ceili-2024/
LOCATION:ON
ATTACH;FMTTYPE=image/jpeg:https://kaleidoscopekw.ca/wp-content/uploads/2024/02/EMG-1391-scaled.jpg
END:VEVENT
END:VCALENDAR