BEGIN:VCALENDAR
VERSION:2.0
PRODID:-//Kaleidoscope Irish Dance and Movement - ECPv6.15.20//NONSGML v1.0//EN
CALSCALE:GREGORIAN
METHOD:PUBLISH
X-WR-CALNAME:Kaleidoscope Irish Dance and Movement
X-ORIGINAL-URL:https://kaleidoscopekw.ca
X-WR-CALDESC:Events for Kaleidoscope Irish Dance and Movement
REFRESH-INTERVAL;VALUE=DURATION:PT1H
X-Robots-Tag:noindex
X-PUBLISHED-TTL:PT1H
BEGIN:VTIMEZONE
TZID:UTC
BEGIN:STANDARD
TZOFFSETFROM:+0000
TZOFFSETTO:+0000
TZNAME:UTC
DTSTART:20230101T000000
END:STANDARD
END:VTIMEZONE
BEGIN:VEVENT
DTSTART;TZID=UTC:20240524T193000
DTEND;TZID=UTC:20240524T223000
DTSTAMP:20260422T041800
CREATED:20230714T105159Z
LAST-MODIFIED:20231003T163235Z
UID:1104-1716579000-1716589800@kaleidoscopekw.ca
SUMMARY:IRL Ceili
DESCRIPTION:Friday\, May 24\, 2024\n7:30 p.m. 10:30 p.m. \nKaleidoscope Studio dancers will be performing as part of the IRL Festival May Céilí at the Victoria Park Pavilion. We will be showcasing numerous regional Irish dance styles. \nTickets for the event are available on the IRL website.
URL:https://kaleidoscopekw.ca/event/irl-ceili-3/
LOCATION:Victoria Park Pavilion\, 80 Schneider Ave\, Kitchener\, ON N2G 1K9\, Canada\, Canada
ATTACH;FMTTYPE=image/jpeg:https://kaleidoscopekw.ca/wp-content/uploads/2023/07/20230211_212621.jpg
END:VEVENT
END:VCALENDAR