BEGIN:VCALENDAR
VERSION:2.0
PRODID:-//Kaleidoscope Irish Dance and Movement - ECPv6.15.20//NONSGML v1.0//EN
CALSCALE:GREGORIAN
METHOD:PUBLISH
X-WR-CALNAME:Kaleidoscope Irish Dance and Movement
X-ORIGINAL-URL:https://kaleidoscopekw.ca
X-WR-CALDESC:Events for Kaleidoscope Irish Dance and Movement
REFRESH-INTERVAL;VALUE=DURATION:PT1H
X-Robots-Tag:noindex
X-PUBLISHED-TTL:PT1H
BEGIN:VTIMEZONE
TZID:America/Toronto
BEGIN:DAYLIGHT
TZOFFSETFROM:-0500
TZOFFSETTO:-0400
TZNAME:EDT
DTSTART:20240310T070000
END:DAYLIGHT
BEGIN:STANDARD
TZOFFSETFROM:-0400
TZOFFSETTO:-0500
TZNAME:EST
DTSTART:20241103T060000
END:STANDARD
BEGIN:DAYLIGHT
TZOFFSETFROM:-0500
TZOFFSETTO:-0400
TZNAME:EDT
DTSTART:20250309T070000
END:DAYLIGHT
BEGIN:STANDARD
TZOFFSETFROM:-0400
TZOFFSETTO:-0500
TZNAME:EST
DTSTART:20251102T060000
END:STANDARD
BEGIN:DAYLIGHT
TZOFFSETFROM:-0500
TZOFFSETTO:-0400
TZNAME:EDT
DTSTART:20260308T070000
END:DAYLIGHT
BEGIN:STANDARD
TZOFFSETFROM:-0400
TZOFFSETTO:-0500
TZNAME:EST
DTSTART:20261101T060000
END:STANDARD
END:VTIMEZONE
BEGIN:VEVENT
DTSTART;TZID=America/Toronto:20250317T150000
DTEND;TZID=America/Toronto:20250317T160000
DTSTAMP:20260421T133607
CREATED:20250213T134753Z
LAST-MODIFIED:20250213T134753Z
UID:2315-1742223600-1742227200@kaleidoscopekw.ca
SUMMARY:Private St. Patrick's Day Event
DESCRIPTION:We were delighted to celebrate St. Patrick’s Day with the residents of a seniors’ community in Waterloo—sharing the history\, rhythms\, and energy of old-style Irish step dance. Our performances bring the stories behind the steps to life\, blending music\, movement\, and tradition in an engaging and interactive experience. \nMore than just a performance\, we invite audiences to tap along\, learn a step or two\, and immerse themselves in the joy of Irish dance. Whether for St. Patrick’s Day or another special occasion\, we’d love to bring this lively experience to your community!
URL:https://kaleidoscopekw.ca/event/private-st-patricks-day-event-2/
LOCATION:ON
ATTACH;FMTTYPE=image/jpeg:https://kaleidoscopekw.ca/wp-content/uploads/2025/02/20240316_141826-scaled.jpg
END:VEVENT
END:VCALENDAR