BEGIN:VCALENDAR
VERSION:2.0
PRODID:-//Kaleidoscope Irish Dance and Movement - ECPv6.15.20//NONSGML v1.0//EN
CALSCALE:GREGORIAN
METHOD:PUBLISH
X-ORIGINAL-URL:https://kaleidoscopekw.ca
X-WR-CALDESC:Events for Kaleidoscope Irish Dance and Movement
REFRESH-INTERVAL;VALUE=DURATION:PT1H
X-Robots-Tag:noindex
X-PUBLISHED-TTL:PT1H
BEGIN:VTIMEZONE
TZID:America/Toronto
BEGIN:DAYLIGHT
TZOFFSETFROM:-0500
TZOFFSETTO:-0400
TZNAME:EDT
DTSTART:20240310T070000
END:DAYLIGHT
BEGIN:STANDARD
TZOFFSETFROM:-0400
TZOFFSETTO:-0500
TZNAME:EST
DTSTART:20241103T060000
END:STANDARD
BEGIN:DAYLIGHT
TZOFFSETFROM:-0500
TZOFFSETTO:-0400
TZNAME:EDT
DTSTART:20250309T070000
END:DAYLIGHT
BEGIN:STANDARD
TZOFFSETFROM:-0400
TZOFFSETTO:-0500
TZNAME:EST
DTSTART:20251102T060000
END:STANDARD
BEGIN:DAYLIGHT
TZOFFSETFROM:-0500
TZOFFSETTO:-0400
TZNAME:EDT
DTSTART:20260308T070000
END:DAYLIGHT
BEGIN:STANDARD
TZOFFSETFROM:-0400
TZOFFSETTO:-0500
TZNAME:EST
DTSTART:20261101T060000
END:STANDARD
END:VTIMEZONE
BEGIN:VEVENT
DTSTART;TZID=America/Toronto:20250311T190000
DTEND;TZID=America/Toronto:20250311T210000
DTSTAMP:20260421T134044
CREATED:20260113T194001Z
LAST-MODIFIED:20260113T194001Z
UID:2904-1741719600-1741726800@kaleidoscopekw.ca
SUMMARY:Roots & Routes
DESCRIPTION:Exploring Step Dancing & Fiddle Traditions from Ireland to Canada \nCome celebrate the rich legacy of Irish step dancing and fiddle music\, tracing their journey from Ireland to Canada and the formation of uniquely Canadian step dancing traditions. \nDiscover how Irish dance and music evolved as they crossed the Atlantic\, blending with local culture to create a distinct style known for its lively footwork and dynamic rhythms. Through performances and storytelling\, you will experience the deep connection between Irish step dancing and the vibrant dance traditions of Canada. \nTickets are available through the IRL Festival website.
URL:https://kaleidoscopekw.ca/event/roots-routes/
LOCATION:Registry Theatre\, 122 Frederick St\, Kitchener\, ON\, N2H 2L9\, Canada
ATTACH;FMTTYPE=image/png:https://kaleidoscopekw.ca/wp-content/uploads/2026/01/roots-and-routes-shared-origins-irish-step-dancing-and-music.png
END:VEVENT
END:VCALENDAR