BEGIN:VCALENDAR
VERSION:2.0
PRODID:-//Kaleidoscope Irish Dance and Movement - ECPv6.15.20//NONSGML v1.0//EN
CALSCALE:GREGORIAN
METHOD:PUBLISH
X-WR-CALNAME:Kaleidoscope Irish Dance and Movement
X-ORIGINAL-URL:https://kaleidoscopekw.ca
X-WR-CALDESC:Events for Kaleidoscope Irish Dance and Movement
REFRESH-INTERVAL;VALUE=DURATION:PT1H
X-Robots-Tag:noindex
X-PUBLISHED-TTL:PT1H
BEGIN:VTIMEZONE
TZID:America/Toronto
BEGIN:DAYLIGHT
TZOFFSETFROM:-0500
TZOFFSETTO:-0400
TZNAME:EDT
DTSTART:20240310T070000
END:DAYLIGHT
BEGIN:STANDARD
TZOFFSETFROM:-0400
TZOFFSETTO:-0500
TZNAME:EST
DTSTART:20241103T060000
END:STANDARD
BEGIN:DAYLIGHT
TZOFFSETFROM:-0500
TZOFFSETTO:-0400
TZNAME:EDT
DTSTART:20250309T070000
END:DAYLIGHT
BEGIN:STANDARD
TZOFFSETFROM:-0400
TZOFFSETTO:-0500
TZNAME:EST
DTSTART:20251102T060000
END:STANDARD
BEGIN:DAYLIGHT
TZOFFSETFROM:-0500
TZOFFSETTO:-0400
TZNAME:EDT
DTSTART:20260308T070000
END:DAYLIGHT
BEGIN:STANDARD
TZOFFSETFROM:-0400
TZOFFSETTO:-0500
TZNAME:EST
DTSTART:20261101T060000
END:STANDARD
END:VTIMEZONE
BEGIN:VEVENT
DTSTART;TZID=America/Toronto:20250302T160000
DTEND;TZID=America/Toronto:20250302T190000
DTSTAMP:20260421T133746
CREATED:20250212T205048Z
LAST-MODIFIED:20250212T205048Z
UID:2296-1740931200-1740942000@kaleidoscopekw.ca
SUMMARY:International Dance Concert
DESCRIPTION:Get ready to experience the rhythm and culture at the International Dance Concert\, presented by the Serbian Folk Group Gavrilo Princip Kitchener Waterloo! \nJoin us as we share old-style Irish dance as we join with other dance styles from around the world. \nImmerse yourself in an evening of vibrant performances as local dance groups take the stage\, showcasing the rich traditions of Greece\, Hungary\, Ireland\, Romania\, Serbia\, and Ukraine. \nDon’t miss out on this incredible celebration of diversity and talent! \nTickets are available for $20 at the door.
URL:https://kaleidoscopekw.ca/event/international-dance-concert/
LOCATION:St. George Banquet Hall\, 665 King St. N.\, Waterloo\, Ontario\, N2J 4G8\, Canada
ATTACH;FMTTYPE=image/png:https://kaleidoscopekw.ca/wp-content/uploads/2025/02/2025-Intl-Dance-Concert.png
END:VEVENT
END:VCALENDAR