BEGIN:VCALENDAR
VERSION:2.0
PRODID:-//Kaleidoscope Irish Dance and Movement - ECPv6.15.20//NONSGML v1.0//EN
CALSCALE:GREGORIAN
METHOD:PUBLISH
X-ORIGINAL-URL:https://kaleidoscopekw.ca
X-WR-CALDESC:Events for Kaleidoscope Irish Dance and Movement
REFRESH-INTERVAL;VALUE=DURATION:PT1H
X-Robots-Tag:noindex
X-PUBLISHED-TTL:PT1H
BEGIN:VTIMEZONE
TZID:America/Toronto
BEGIN:DAYLIGHT
TZOFFSETFROM:-0500
TZOFFSETTO:-0400
TZNAME:EDT
DTSTART:20240310T070000
END:DAYLIGHT
BEGIN:STANDARD
TZOFFSETFROM:-0400
TZOFFSETTO:-0500
TZNAME:EST
DTSTART:20241103T060000
END:STANDARD
BEGIN:DAYLIGHT
TZOFFSETFROM:-0500
TZOFFSETTO:-0400
TZNAME:EDT
DTSTART:20250309T070000
END:DAYLIGHT
BEGIN:STANDARD
TZOFFSETFROM:-0400
TZOFFSETTO:-0500
TZNAME:EST
DTSTART:20251102T060000
END:STANDARD
BEGIN:DAYLIGHT
TZOFFSETFROM:-0500
TZOFFSETTO:-0400
TZNAME:EDT
DTSTART:20260308T070000
END:DAYLIGHT
BEGIN:STANDARD
TZOFFSETFROM:-0400
TZOFFSETTO:-0500
TZNAME:EST
DTSTART:20261101T060000
END:STANDARD
END:VTIMEZONE
BEGIN:VEVENT
DTSTART;TZID=America/Toronto:20250301T143000
DTEND;TZID=America/Toronto:20250301T163000
DTSTAMP:20260421T133931
CREATED:20240717T150729Z
LAST-MODIFIED:20250212T205211Z
UID:2166-1740839400-1740846600@kaleidoscopekw.ca
SUMMARY:Family/Adapted Céili
DESCRIPTION:So pleased to work with the Irish Real Life Festival to host a Family/Adapted Céili. \nThis event is designed for families to dance together. Music and instruction will be slowed down to accommodate as many needs as possible. \nCome share in the joy that is Irish dance. \nTickets available on the IRL Website.
URL:https://kaleidoscopekw.ca/event/family-adapted-ceili-march-2025/
LOCATION:Conrad Centre for the Performing Arts\, 36 King St. W\, Kitchener\, ON\, N2G 1A3\, Canada
ATTACH;FMTTYPE=image/jpeg:https://kaleidoscopekw.ca/wp-content/uploads/2024/07/Family-Adapted-Ceili-March.jpg
END:VEVENT
END:VCALENDAR