BEGIN:VCALENDAR
VERSION:2.0
PRODID:-//Kaleidoscope Irish Dance and Movement - ECPv6.15.20//NONSGML v1.0//EN
CALSCALE:GREGORIAN
METHOD:PUBLISH
X-WR-CALNAME:Kaleidoscope Irish Dance and Movement
X-ORIGINAL-URL:https://kaleidoscopekw.ca
X-WR-CALDESC:Events for Kaleidoscope Irish Dance and Movement
REFRESH-INTERVAL;VALUE=DURATION:PT1H
X-Robots-Tag:noindex
X-PUBLISHED-TTL:PT1H
BEGIN:VTIMEZONE
TZID:UTC
BEGIN:STANDARD
TZOFFSETFROM:+0000
TZOFFSETTO:+0000
TZNAME:UTC
DTSTART:20230101T000000
END:STANDARD
END:VTIMEZONE
BEGIN:VEVENT
DTSTART;TZID=UTC:20240317T140000
DTEND;TZID=UTC:20240317T150000
DTSTAMP:20260422T091420
CREATED:20240202T202726Z
LAST-MODIFIED:20240202T202726Z
UID:2034-1710684000-1710687600@kaleidoscopekw.ca
SUMMARY:Private St. Patrick's Day Event
DESCRIPTION:So pleased to celebrate St. Patrick’s Day at a seniors’ residence in Guelph! \nWe will present some historical dances and their context and get the audience dancing too. \nIt promises to be a great afternoon of Irish dance\, music\, and history!
URL:https://kaleidoscopekw.ca/event/private-st-patricks-day-event/
LOCATION:ON
ATTACH;FMTTYPE=image/png:https://kaleidoscopekw.ca/wp-content/uploads/2023/11/2023-03-16-Retirement-Home-Workshop.png
END:VEVENT
END:VCALENDAR