BEGIN:VCALENDAR
VERSION:2.0
PRODID:-//Kaleidoscope Irish Dance and Movement - ECPv6.15.20//NONSGML v1.0//EN
CALSCALE:GREGORIAN
METHOD:PUBLISH
X-ORIGINAL-URL:https://kaleidoscopekw.ca
X-WR-CALDESC:Events for Kaleidoscope Irish Dance and Movement
REFRESH-INTERVAL;VALUE=DURATION:PT1H
X-Robots-Tag:noindex
X-PUBLISHED-TTL:PT1H
BEGIN:VTIMEZONE
TZID:UTC
BEGIN:STANDARD
TZOFFSETFROM:+0000
TZOFFSETTO:+0000
TZNAME:UTC
DTSTART:20220101T000000
END:STANDARD
END:VTIMEZONE
BEGIN:VEVENT
DTSTART;TZID=UTC:20231125T193000
DTEND;TZID=UTC:20231125T223000
DTSTAMP:20260422T154249
CREATED:20230714T104641Z
LAST-MODIFIED:20231003T163309Z
UID:1096-1700940600-1700951400@kaleidoscopekw.ca
SUMMARY:IRL Ceili
DESCRIPTION:Saturday\, November 25\, 2023\n7:30 p.m. 10:30 p.m.\nKaleidoscope Studio dancers will be performing as part of the IRL Festival November Céilí at the Victoria Park Pavilion. We will be showcasing numerous regional Irish dance styles. \nTickets for the event are available on the IRL website.
URL:https://kaleidoscopekw.ca/event/irl-ceili/
LOCATION:Victoria Park Pavilion\, 80 Schneider Ave\, Kitchener\, ON N2G 1K9\, Canada\, Canada
ATTACH;FMTTYPE=image/jpeg:https://kaleidoscopekw.ca/wp-content/uploads/2023/07/20221118_202850.jpg
END:VEVENT
END:VCALENDAR