BEGIN:VCALENDAR
VERSION:2.0
PRODID:-//Kaleidoscope Irish Dance and Movement - ECPv6.15.20//NONSGML v1.0//EN
CALSCALE:GREGORIAN
METHOD:PUBLISH
X-WR-CALNAME:Kaleidoscope Irish Dance and Movement
X-ORIGINAL-URL:https://kaleidoscopekw.ca
X-WR-CALDESC:Events for Kaleidoscope Irish Dance and Movement
REFRESH-INTERVAL;VALUE=DURATION:PT1H
X-Robots-Tag:noindex
X-PUBLISHED-TTL:PT1H
BEGIN:VTIMEZONE
TZID:UTC
BEGIN:STANDARD
TZOFFSETFROM:+0000
TZOFFSETTO:+0000
TZNAME:UTC
DTSTART:20220101T000000
END:STANDARD
END:VTIMEZONE
BEGIN:VEVENT
DTSTART;TZID=UTC:20231031T180000
DTEND;TZID=UTC:20231031T200000
DTSTAMP:20260422T153942
CREATED:20231005T181240Z
LAST-MODIFIED:20231005T181352Z
UID:1770-1698775200-1698782400@kaleidoscopekw.ca
SUMMARY:Samhain Celebration
DESCRIPTION:Celebrate Samhain! \nPut on your costume and come kick off the Celtic New Year with us as we dance\, craft\, puzzle\, and play together! \nThere will be candy and prizes available. \nAll ages are welcome! \n 
URL:https://kaleidoscopekw.ca/event/1770/
LOCATION:ON
ATTACH;FMTTYPE=image/png:https://kaleidoscopekw.ca/wp-content/uploads/2023/10/Samhain-Trello-Cover.png
END:VEVENT
END:VCALENDAR