BEGIN:VCALENDAR
VERSION:2.0
PRODID:-//Kaleidoscope Irish Dance and Movement - ECPv6.15.20//NONSGML v1.0//EN
CALSCALE:GREGORIAN
METHOD:PUBLISH
X-ORIGINAL-URL:https://kaleidoscopekw.ca
X-WR-CALDESC:Events for Kaleidoscope Irish Dance and Movement
REFRESH-INTERVAL;VALUE=DURATION:PT1H
X-Robots-Tag:noindex
X-PUBLISHED-TTL:PT1H
BEGIN:VTIMEZONE
TZID:UTC
BEGIN:STANDARD
TZOFFSETFROM:+0000
TZOFFSETTO:+0000
TZNAME:UTC
DTSTART:20220101T000000
END:STANDARD
END:VTIMEZONE
BEGIN:VEVENT
DTSTART;TZID=UTC:20230821T090000
DTEND;TZID=UTC:20230825T160000
DTSTAMP:20260422T204342
CREATED:20230714T103942Z
LAST-MODIFIED:20231003T162337Z
UID:1088-1692608400-1692979200@kaleidoscopekw.ca
SUMMARY:Celtic Christmas Irish Dance Day Camp
DESCRIPTION:Mon.\, Aug. 21\, 2023 9:00 a.m.  Fri.\, Aug. 25\, 2023 4:00 p.m.\nKW Musical Productions (map)\nA winter holiday for the end of summer! \nLearn more about winter celebrations in the Celtic world – holly\, mistletoe\, the wren boys – all of them rooted in the growing cycle of the year.  Campers will participate in group dances\, create various crafts.  The day starts with rhythm lessons and a brain-based warm-up.  Then we dive into dance\, music\, and games.  Each afternoon\, campers will participate in tin whistle lessons and make a holiday-themed craft.  Every camper will also receive an Irish tin whistle to take home at the end of camp! \nWe will also play outside every day (weather permitting). \nPlease ensure to pack a water bottle\, nut-free lunch\, two nut-free snacks\, clean indoor shoes (dance shoes appropriate)\, outdoor shoes\, and weather appropriate clothing.  \nFor more details\, or to register\, check out the Kaleidoscope Studio Day Camps page.
URL:https://kaleidoscopekw.ca/event/celtic-christmas-irish-dance-day-camp/
LOCATION:KW Musical Productions\, 14 Shaftsbury Dr\, Kitchener\, ON N2A 1N5\, Canada\, Canada
ATTACH;FMTTYPE=image/png:https://kaleidoscopekw.ca/wp-content/uploads/2023/07/CelticChristmas.png
END:VEVENT
END:VCALENDAR